BEGIN:VCALENDAR
VERSION:2.0
PRODID:-//Squarespace Inc/Squarespace 6//v6//EN
BEGIN:VEVENT
UID:5e1b91ff704297751035014e@squarespace.com
DTSTAMP:20200112T214512Z
DTSTART:20200112T220000Z
DTEND:20200112T230000Z
SUMMARY:VIMFF - International Film Fest.
GEO:-35.320981;149.164627
LOCATION:Captial Brewing Co.\, Building 3\, 1 Dairy Road Fyshwick Canberra\
 , Australian Capital Territory 2609\, Canberra\, Australia
END:VEVENT
END:VCALENDAR
