BEGIN:VCALENDAR
VERSION:2.0
PRODID:-//Squarespace Inc/Squarespace 6//v6//EN
BEGIN:VEVENT
UID:5d9e6b7ec1f67f503ca9214e@squarespace.com
DTSTAMP:20191010T055648Z
DTSTART:20191019T030000Z
DTEND:20191019T080000Z
SUMMARY:The Forage
END:VEVENT
END:VCALENDAR
