BEGIN:VCALENDAR
VERSION:2.0
PRODID:-//Squarespace Inc/Squarespace 6//v6//EN
BEGIN:VEVENT
UID:5d9e79a71c9b7c72d7bbb6f6@squarespace.com
DTSTAMP:20191010T070147Z
DTSTART:20191105T080000Z
DTEND:20191105T103000Z
SUMMARY:Reel Rock — National Sound &amp\; Film Archives
END:VEVENT
END:VCALENDAR
