BEGIN:VCALENDAR
VERSION:2.0
PRODID:-//Squarespace Inc/Squarespace 6//v6//EN
BEGIN:VEVENT
UID:5d9e7caf59c7f056ac9ed447@squarespace.com
DTSTAMP:20191010T070328Z
DTSTART:20191120T080000Z
DTEND:20191120T103000Z
SUMMARY:Reel Rock — Dendy Cinema
END:VEVENT
END:VCALENDAR
