BEGIN:VCALENDAR
VERSION:2.0
PRODID:-//Squarespace Inc/Squarespace 6//v6//EN
BEGIN:VEVENT
UID:5d9e76934be0420c8323e1a6@squarespace.com
DTSTAMP:20191010T055741Z
DTSTART:20191025T070000Z
DTEND:20191025T110000Z
SUMMARY:Halloween Haus Party
END:VEVENT
END:VCALENDAR
