BEGIN:VCALENDAR
VERSION:2.0
PRODID:-//Squarespace Inc/Squarespace 6//v6//EN
BEGIN:VEVENT
UID:5e16a43489782e64aa55d1c7@squarespace.com
DTSTAMP:20200109T053654Z
DTSTART:20200109T040000Z
DTEND:20200126T100000Z
SUMMARY:boulders that benefit.
END:VEVENT
END:VCALENDAR
