BEGIN:VCALENDAR
VERSION:2.0
PRODID:-//Squarespace Inc/Squarespace 6//v6//EN
BEGIN:VEVENT
UID:5d5550d73c5dc50001fcba43@squarespace.com
DTSTAMP:20190815T124451Z
DTSTART:20190504T030000Z
DTEND:20190504T110000Z
SUMMARY:2nd Birthday 90s Pump Party
END:VEVENT
END:VCALENDAR
